BEGIN:VCALENDAR
VERSION:2.0
PRODID:-//hacksw/handcal//NONSGML v1.0//EN
BEGIN:VEVENT
SUMMARY:UNE BIEN BELLE VICTOIRE A L'EXTERIEUR
UID:226a0280-6200-4613-94e9-27a737b367d9
DTSTART:20190920T183000Z
DTEND:20190920T213000Z
LOCATION:Localisation Complexe Sainte Famille 84200 CARPENTRAS
CATEGORIES:Sportif
STATUS:
DESCRIPTION:<p>Notre photo : Ghyslain CUTILLAS</p>
 
URL;VALUE=URI:https://ping-courthezonnais.sportsregions.fr/evenements/2019/09/20/une-bien-belle-victoire-a-lexterieur-1289507
END:VEVENT
END:VCALENDAR
