BEGIN:VCALENDAR
VERSION:2.0
PRODID:-//hacksw/handcal//NONSGML v1.0//EN
BEGIN:VEVENT
SUMMARY:UNE BIEN BELLE DEFAITE
UID:a64e8ee7-a0f8-456d-a751-3ecdf3ac1fbb
DTSTART:20190426T183000Z
DTEND:20190426T211500Z
LOCATION:Localisation Salle Municipale des Sports - Route de Sorgues 84320 ENTRAIGUES SUR LA SORGUE
CATEGORIES:Sportif
STATUS:
DESCRIPTION:<p>Notre photo : Jacques SAURIN</p>
 
URL;VALUE=URI:https://ping-courthezonnais.sportsregions.fr/evenements/2019/04/26/une-bien-belle-defaite-1237508
END:VEVENT
END:VCALENDAR
