BEGIN:VCALENDAR
VERSION:2.0
PRODID:-//hacksw/handcal//NONSGML v1.0//EN
BEGIN:VEVENT
SUMMARY:LA DEFAITE SEVERE
UID:9bb39d81-b813-44d5-8917-0c60fb437916
DTSTART:20190426T183000Z
DTEND:20190426T211500Z
LOCATION:Localisation Salle Polyvalente - Bd Jean VILAR 84350 COURTHEZON
CATEGORIES:Sportif
STATUS:
DESCRIPTION:<p>Notre photo : Philippe SOSSON</p>
 
URL;VALUE=URI:https://ping-courthezonnais.sportsregions.fr/evenements/2019/04/26/la-defaite-severe-1237504
END:VEVENT
END:VCALENDAR
