BEGIN:VCALENDAR
VERSION:2.0
PRODID:-//hacksw/handcal//NONSGML v1.0//EN
BEGIN:VEVENT
SUMMARY:VICTOIRE EN TOUTE LOGIQUE
UID:4152ccd1-a1ee-4da6-b8c6-679eab03d64f
DTSTART:20190405T183000Z
DTEND:20190405T211500Z
LOCATION:Localisation Ferme des Courreges 84100 ORANGE
CATEGORIES:Sportif
STATUS:
DESCRIPTION:<p>Notre photo : Denis MARION</p>
 
URL;VALUE=URI:https://ping-courthezonnais.sportsregions.fr/evenements/2019/04/05/victoire-en-toute-logique-1231751
END:VEVENT
END:VCALENDAR
