BEGIN:VCALENDAR
VERSION:2.0
PRODID:-//hacksw/handcal//NONSGML v1.0//EN
BEGIN:VEVENT
SUMMARY:QUEL DOMMAGE
UID:d6618090-69fa-4039-8698-18b600cb19fe
DTSTART:20190405T183000Z
DTEND:20190405T213000Z
LOCATION:Localisation Plaine Sportive 84700 SORGUES
CATEGORIES:Sportif
STATUS:
DESCRIPTION:<p>Notre photo : Philippe SOSSON</p>
 
URL;VALUE=URI:https://ping-courthezonnais.sportsregions.fr/evenements/2019/04/05/quel-dommage-1231753
END:VEVENT
END:VCALENDAR
