BEGIN:VCALENDAR
VERSION:2.0
PRODID:-//hacksw/handcal//NONSGML v1.0//EN
BEGIN:VEVENT
SUMMARY:UNE TRES BELLE VICTOIRE
UID:6c5549ca-e5d7-48da-827b-dbe4646319da
DTSTART:20190322T193000Z
DTEND:20190322T223000Z
LOCATION:Localisation Salle Polyvalente - Bd Jean VILAR 84350 COURTHEZON
CATEGORIES:Sportif
STATUS:
DESCRIPTION:<p>Notre photo : Frederic BRESSET</p>
 
URL;VALUE=URI:https://ping-courthezonnais.sportsregions.fr/evenements/2019/03/22/une-tres-belle-victoire-1226361
END:VEVENT
END:VCALENDAR
