BEGIN:VCALENDAR
VERSION:2.0
PRODID:-//hacksw/handcal//NONSGML v1.0//EN
BEGIN:VEVENT
SUMMARY:FAUDRA SE RESAISSIR
UID:fb011d49-e771-44c6-8a3b-4ff09dbaafda
DTSTART:20190309T160000Z
DTEND:20190309T190000Z
LOCATION:Localisation Salle Polyvalente - Bd Jean VILAR 84350 COURTHEZON
CATEGORIES:Sportif
STATUS:
DESCRIPTION:<p>Notre photo : Thomas GUDAYOL</p>
 
URL;VALUE=URI:https://ping-courthezonnais.sportsregions.fr/evenements/2019/03/09/faudra-se-resaissir-1220526
END:VEVENT
END:VCALENDAR
