BEGIN:VCALENDAR
VERSION:2.0
PRODID:-//hacksw/handcal//NONSGML v1.0//EN
BEGIN:VEVENT
SUMMARY:UNE VICTOIRE A L' ARRACHEE
UID:2a3becb8-63ba-4ec0-8ace-c8ee9fcb18d7
DTSTART:20190308T193000Z
DTEND:20190308T224500Z
LOCATION:Localisation Salle Plyvalente - Bd Jean VILAR 84350 COURTHEZON 
CATEGORIES:Sportif
STATUS:
DESCRIPTION:<p>Notre photo : Ghyslain CUTILLAS ( a droite )</p>
 
URL;VALUE=URI:https://ping-courthezonnais.sportsregions.fr/evenements/2019/03/08/une-victoire-a-l-arrachee-1220524
END:VEVENT
END:VCALENDAR
