BEGIN:VCALENDAR
VERSION:2.0
PRODID:-//hacksw/handcal//NONSGML v1.0//EN
BEGIN:VEVENT
SUMMARY:UNE DEFAITE INQUIETANTE
UID:4d4a609e-0de7-42ef-bc60-a8f56e77f8e3
DTSTART:20190308T193000Z
DTEND:20190308T224500Z
LOCATION:Localisation Salle Polyvalente - Bd Jean VILAR 84350 COURTHEZON
CATEGORIES:Sportif
STATUS:
DESCRIPTION:<p>Notre photo : Pascal DELSALLE</p>
 
 <p> </p>
 
URL;VALUE=URI:https://ping-courthezonnais.sportsregions.fr/evenements/2019/03/08/une-defaite-inquietante-1220518
END:VEVENT
END:VCALENDAR
