BEGIN:VCALENDAR
VERSION:2.0
PRODID:-//hacksw/handcal//NONSGML v1.0//EN
BEGIN:VEVENT
SUMMARY:SUR LA BONNE VOIE POUR LA MONTEE
UID:5a72d077-7d80-477e-9a10-48d732786f81
DTSTART:20190308T193000Z
DTEND:20190308T223000Z
LOCATION:Localisation Salle Polyvalente - Bd Jean VILARD 84350 COURTHEZON
CATEGORIES:Sportif
STATUS:
DESCRIPTION:<p>Notre photo : Emmanuel WIZA</p>
 
URL;VALUE=URI:https://ping-courthezonnais.sportsregions.fr/evenements/2019/03/08/sur-la-bonne-voie-pour-la-montee-1220514
END:VEVENT
END:VCALENDAR
