BEGIN:VCALENDAR
VERSION:2.0
PRODID:-//hacksw/handcal//NONSGML v1.0//EN
BEGIN:VEVENT
SUMMARY:UNE LOURDE DEFAITE
UID:c8b41761-3d4c-4ace-96bc-96a79af15e75
DTSTART:20190203T130000Z
DTEND:20190203T150000Z
LOCATION:Localisation Salle Polyvalente - Bd Jean VILAR 84350 COURTHEZON
CATEGORIES:Sportif
STATUS:
DESCRIPTION:<p>Notre photo : Loris MESNIL</p>
 
URL;VALUE=URI:https://ping-courthezonnais.sportsregions.fr/evenements/2019/02/03/une-lourde-defaite-1206488
END:VEVENT
END:VCALENDAR
