BEGIN:VCALENDAR
VERSION:2.0
PRODID:-//hacksw/handcal//NONSGML v1.0//EN
BEGIN:VEVENT
SUMMARY:UNE BONNE DEFAITE
UID:bb9244d0-5bf9-4c34-a3b0-b050c564f7b0
DTSTART:20190201T193000Z
DTEND:20190201T220000Z
LOCATION:Localisation Gymnase Martin-Luther KING - Chemin du Pont de la Sable 84800 L'ISLE SUR LA SORGUE
CATEGORIES:Sportif
STATUS:
DESCRIPTION:<p>Notre photo : Frederic BRESSET</p>
 
URL;VALUE=URI:https://ping-courthezonnais.sportsregions.fr/evenements/2019/02/01/une-bonne-defaite-1205836
END:VEVENT
END:VCALENDAR
