BEGIN:VCALENDAR
VERSION:2.0
PRODID:-//hacksw/handcal//NONSGML v1.0//EN
BEGIN:VEVENT
SUMMARY:MEME SCORE QU'A LA PHASE 1
UID:72f55c26-4223-4753-97b1-1dcfe8da76e5
DTSTART:20190201T193000Z
DTEND:20190201T223000Z
LOCATION:Localisation Halle des Sports - Av Edouard GRANGIER 84170 MONTEUX
CATEGORIES:Sportif
STATUS:
DESCRIPTION:<p>Notre photo : Jean-Luc ROUSSEL</p>
 
URL;VALUE=URI:https://ping-courthezonnais.sportsregions.fr/evenements/2019/02/01/meme-score-qua-la-phase-1-1205838
END:VEVENT
END:VCALENDAR
