BEGIN:VCALENDAR
VERSION:2.0
PRODID:-//hacksw/handcal//NONSGML v1.0//EN
BEGIN:VEVENT
SUMMARY:UNE BELLE VICTOIRE QUI REVIENT DE LOIN
UID:83ece358-d754-4edd-9ac4-29ca316c028e
DTSTART:20190119T160000Z
DTEND:20190119T193000Z
LOCATION:Localisation Salle Polyvalente - Bd Jean VILAR 84350 COURTHEZON
CATEGORIES:Sportif
STATUS:
DESCRIPTION:<p>Notre Photo : Vitalic BREBION qui a ramene le point de
 la victoire coacher par Quentin CHARRET</p>
 
URL;VALUE=URI:https://ping-courthezonnais.sportsregions.fr/evenements/2019/01/19/une-belle-victoire-qui-revient-de-loin-1200885
END:VEVENT
END:VCALENDAR
