BEGIN:VCALENDAR
VERSION:2.0
PRODID:-//hacksw/handcal//NONSGML v1.0//EN
BEGIN:VEVENT
SUMMARY:MAUVAIS DEPART A DOMICILE
UID:d1bc1ae3-9de7-41ed-a249-2a41b70eb39c
DTSTART:20190118T193000Z
DTEND:20190118T223000Z
LOCATION:Localisation Salle Polyvalente - Bd Jean VILAR 84350 COURTHEZON
CATEGORIES:Sportif
STATUS:
DESCRIPTION:<p>Notre photo : Jacques SAURIN</p>
 
URL;VALUE=URI:https://ping-courthezonnais.sportsregions.fr/evenements/2019/01/18/mauvais-depart-a-domicile-1200851
END:VEVENT
END:VCALENDAR
