BEGIN:VCALENDAR
VERSION:2.0
PRODID:-//hacksw/handcal//NONSGML v1.0//EN
BEGIN:VEVENT
SUMMARY:RIEN NE VA PLUS
UID:40db2344-457f-494c-b2ec-c426a8468a4a
DTSTART:20181214T193000Z
DTEND:20181214T221500Z
LOCATION:Localisation Complexe Ste FAMILLE 84200 CARPENTRAS
CATEGORIES:Sportif
STATUS:
DESCRIPTION:<p>Notre photo : Denis MARION</p>
 
URL;VALUE=URI:https://ping-courthezonnais.sportsregions.fr/evenements/2018/12/14/rien-ne-va-plus-1182732
END:VEVENT
END:VCALENDAR
