BEGIN:VCALENDAR
VERSION:2.0
PRODID:-//hacksw/handcal//NONSGML v1.0//EN
BEGIN:VEVENT
SUMMARY:ENCORE UNE DEFAITE DE PEU
UID:5e0ae1ab-acef-4f9d-93f5-8bf6397f9507
DTSTART:20181214T193000Z
DTEND:20181214T224500Z
LOCATION:Localisation Halle des Sports - Av Edouard GRANGIER 84170 MONTEUX
CATEGORIES:Sportif
STATUS:
DESCRIPTION:<p>Notre photo : Jimmy CAJOT</p>
 
URL;VALUE=URI:https://ping-courthezonnais.sportsregions.fr/evenements/2018/12/14/encore-une-defaite-de-peu-1182737
END:VEVENT
END:VCALENDAR
