BEGIN:VCALENDAR
VERSION:2.0
PRODID:-//hacksw/handcal//NONSGML v1.0//EN
BEGIN:VEVENT
SUMMARY:UN TRES BON MATCH NUL
UID:c4bc0093-266e-485f-aa9a-81e160d618d5
DTSTART:20181201T160000Z
DTEND:20181201T191500Z
LOCATION:Localisation La Cauquiere - Place Fontvieille 83310 COGOLIN
CATEGORIES:Sportif
STATUS:
DESCRIPTION:<p>Notre photo : Didier SEREBRIAKOFF</p>
 
URL;VALUE=URI:https://ping-courthezonnais.sportsregions.fr/evenements/2018/12/01/un-tres-bon-match-nul-1177820
END:VEVENT
END:VCALENDAR
