BEGIN:VCALENDAR
VERSION:2.0
PRODID:-//hacksw/handcal//NONSGML v1.0//EN
BEGIN:VEVENT
SUMMARY:UNE BIEN BELLE VICTOIRE LOGIQUE
UID:c5357396-571e-4010-a7f9-cafdce376e0b
DTSTART:20181130T193000Z
DTEND:20181130T223000Z
LOCATION:Localisation Place du Marche 30131 PUJAUT
CATEGORIES:Sportif
STATUS:
DESCRIPTION:<p>Notre photo : Ghyslain CUTILLAS</p>
 
URL;VALUE=URI:https://ping-courthezonnais.sportsregions.fr/evenements/2018/11/30/une-bien-belle-victoire-logique-1177817
END:VEVENT
END:VCALENDAR
