BEGIN:VCALENDAR
VERSION:2.0
PRODID:-//hacksw/handcal//NONSGML v1.0//EN
BEGIN:VEVENT
SUMMARY:NOUVELLE DEFAITE DE JUSTESSE
UID:ba6604bf-4115-4959-8fee-abedb0576e2e
DTSTART:20181130T193000Z
DTEND:20181130T223000Z
LOCATION:Localisation Avenue Edouard GRANGIER 84170 MONTEUX
CATEGORIES:Sportif
STATUS:
DESCRIPTION:<p>Notre photo : Roger MARCHETTI</p>
 
URL;VALUE=URI:https://ping-courthezonnais.sportsregions.fr/evenements/2018/11/30/nouvelle-defaite-de-justesse-1177818
END:VEVENT
END:VCALENDAR
