BEGIN:VCALENDAR
VERSION:2.0
PRODID:-//hacksw/handcal//NONSGML v1.0//EN
BEGIN:VEVENT
SUMMARY:UNE VICTOIRE LOGIQUE
UID:ed9d8c50-5711-4d6e-856a-398da6576ba9
DTSTART:20181116T193000Z
DTEND:20181116T221500Z
LOCATION:Localisation Salle Municipale des Sports 84320 ENTRAIGUES SUR LA SORGUE
CATEGORIES:Sportif
STATUS:
DESCRIPTION:<p>Notre photo : Emmanuel WIZA</p>
 
URL;VALUE=URI:https://ping-courthezonnais.sportsregions.fr/evenements/2018/11/16/une-victoire-logique-1171174
END:VEVENT
END:VCALENDAR
