BEGIN:VCALENDAR
VERSION:2.0
PRODID:-//hacksw/handcal//NONSGML v1.0//EN
BEGIN:VEVENT
SUMMARY:UNE VICTOIRE AVEC PANACHE
UID:78f2c545-bc09-428f-9d6e-a917ef89fa0d
DTSTART:20181116T193000Z
DTEND:20181116T221500Z
LOCATION:Localisation Salle Luc VIGNAL - Avenue Elsa TRIOLLET 84000 AVIGNON
CATEGORIES:Sportif
STATUS:
DESCRIPTION:<p>Notre photo : Arnaud NOELLE</p>
 
URL;VALUE=URI:https://ping-courthezonnais.sportsregions.fr/evenements/2018/11/16/une-victoire-avec-panache-1171189
END:VEVENT
END:VCALENDAR
