BEGIN:VCALENDAR
VERSION:2.0
PRODID:-//hacksw/handcal//NONSGML v1.0//EN
BEGIN:VEVENT
SUMMARY:UN MATCH NUL QUI FAIT MAL
UID:ddc020f0-03c6-4fc3-a8fa-63ecf68450cc
DTSTART:20181109T193000Z
DTEND:20181109T224500Z
LOCATION:Localisation Plaine sportive - Route de Vedene 84700 SORGUES
CATEGORIES:Sportif
STATUS:
DESCRIPTION:<p>Notre photo : Julien BLANC</p>
 
URL;VALUE=URI:https://ping-courthezonnais.sportsregions.fr/evenements/2018/11/09/un-match-nul-qui-fait-mal-1167894
END:VEVENT
END:VCALENDAR
