BEGIN:VCALENDAR
VERSION:2.0
PRODID:-//hacksw/handcal//NONSGML v1.0//EN
BEGIN:VEVENT
SUMMARY:TOUJOURS PAS DE VICTOIRE
UID:16e12a2c-d037-4ed2-8f1a-773bf6c2f670
DTSTART:20181109T193000Z
DTEND:20181109T220000Z
LOCATION:Localisation Boulevard Jean MOULIN 84300 CAVAILLON
CATEGORIES:Sportif
STATUS:
DESCRIPTION:<p>Notre photo : Gerard DEVEZE</p>
 
URL;VALUE=URI:https://ping-courthezonnais.sportsregions.fr/evenements/2018/11/09/toujours-pas-de-victoire-1167898
END:VEVENT
END:VCALENDAR
