BEGIN:VCALENDAR
VERSION:2.0
PRODID:-//hacksw/handcal//NONSGML v1.0//EN
BEGIN:VEVENT
SUMMARY:UN SURSAUT D'ORGUEIL
UID:08ea3595-02e4-497a-b035-a691633d116a
DTSTART:20181028T130000Z
DTEND:20181028T161500Z
LOCATION:Localisation Salle PASTORELLI - Avenue Benjamin Freze 83120 STE MAXIME
CATEGORIES:Sportif
STATUS:
DESCRIPTION:<p>Notre photo : CHARRET Quentin</p>
 
URL;VALUE=URI:https://ping-courthezonnais.sportsregions.fr/evenements/2018/10/28/un-sursaut-dorgueil-1160014
END:VEVENT
END:VCALENDAR
