BEGIN:VCALENDAR
VERSION:2.0
PRODID:-//hacksw/handcal//NONSGML v1.0//EN
BEGIN:VEVENT
SUMMARY:UNE TRES BELLE VICTOIRE A L'EXTERIEUR
UID:744d20a6-783d-40ad-8dcf-09ebe82fe0e3
DTSTART:20181026T183000Z
DTEND:20181026T213000Z
LOCATION:Localisation Complexe Ste Famille  84200 CARPENTRAS
CATEGORIES:Sportif
STATUS:
DESCRIPTION:<p>Notre photo : Christophe CANET</p>
 
URL;VALUE=URI:https://ping-courthezonnais.sportsregions.fr/evenements/2018/10/26/une-tres-belle-victoire-a-lexterieur-1159001
END:VEVENT
END:VCALENDAR
