BEGIN:VCALENDAR
VERSION:2.0
PRODID:-//hacksw/handcal//NONSGML v1.0//EN
BEGIN:VEVENT
SUMMARY:UN SURSAUT D'ORGUEIL
UID:2a720e5f-cb9a-4ae7-8b13-f076a90cfb3b
DTSTART:20181026T183000Z
DTEND:20181026T210000Z
LOCATION:Localisation Halle des Sports - Avenue Edouard GRANGIER 84170 MONTEUX
CATEGORIES:Sportif
STATUS:
DESCRIPTION:<p>Notre photo : WIZA Emmanuel</p>
 
URL;VALUE=URI:https://ping-courthezonnais.sportsregions.fr/evenements/2018/10/26/un-sursaut-dorgueil-1158985
END:VEVENT
END:VCALENDAR
