BEGIN:VCALENDAR
VERSION:2.0
PRODID:-//hacksw/handcal//NONSGML v1.0//EN
BEGIN:VEVENT
SUMMARY:PAS DE RENCONTRE ( FORFAIT )
UID:6fe52001-3305-4fd4-96a1-c38dbce03178
DTSTART:20181026T183000Z
DTEND:20181026T183000Z
LOCATION:Localisation Gymnase Jean GARCIN - Route de Velleron 84250 LE THOR
CATEGORIES:Sportif
STATUS:
DESCRIPTION:<p>Notre photo : La D3</p>
 
URL;VALUE=URI:https://ping-courthezonnais.sportsregions.fr/evenements/2018/10/26/pas-de-rencontre-forfait-1159025
END:VEVENT
END:VCALENDAR
