BEGIN:VCALENDAR
VERSION:2.0
PRODID:-//hacksw/handcal//NONSGML v1.0//EN
BEGIN:VEVENT
SUMMARY:LA RENCONTRE QU'IL NE FALLAIT PAS PERDRE
UID:f84724af-c59d-48cd-99d0-ea42911a4078
DTSTART:20181026T183000Z
DTEND:20181026T213000Z
LOCATION:Localisation Halle des Sports - Avenue Edouard GRANGIER 84170 MONTEUX
CATEGORIES:Sportif
STATUS:
DESCRIPTION:<p>Notre photo : CUTILLAS Ghyslain</p>
 
URL;VALUE=URI:https://ping-courthezonnais.sportsregions.fr/evenements/2018/10/26/la-rencontre-quil-ne-fallait-pas-perdre-1159023
END:VEVENT
END:VCALENDAR
