BEGIN:VCALENDAR
VERSION:2.0
PRODID:-//hacksw/handcal//NONSGML v1.0//EN
BEGIN:VEVENT
SUMMARY:UN BON DEBUT AVEC LA VICTOIRE
UID:1ca55878-ce29-402e-bd32-084ad00a18f1
DTSTART:20180929T150000Z
DTEND:20180929T181500Z
LOCATION:Localisation Azur ARENA ANTIBES - 250 Avenue Emile HUGUES 06600 ANTIBES
CATEGORIES:Sportif
STATUS:
DESCRIPTION:<p>Notre photo : Thomas GUDAYOL</p>
 
URL;VALUE=URI:https://ping-courthezonnais.sportsregions.fr/evenements/2018/09/29/un-bon-debut-avec-la-victoire-1141906
END:VEVENT
END:VCALENDAR
