BEGIN:VCALENDAR
VERSION:2.0
PRODID:-//hacksw/handcal//NONSGML v1.0//EN
BEGIN:VEVENT
SUMMARY:TRES BELLE VICTOIRE A L'EXTERIEUR
UID:381b5b7d-99a4-4735-b6a2-3cd0193ec5a0
DTSTART:20180928T183000Z
DTEND:20180928T214500Z
LOCATION:Localisation Gymnase du LEP Ferdinand R - Chemin des Estimeurs Est 84600 VALREAS
CATEGORIES:Sportif
STATUS:
DESCRIPTION:<p>Notre photo : Philippe SOSSON</p>
 
URL;VALUE=URI:https://ping-courthezonnais.sportsregions.fr/evenements/2018/09/28/tres-belle-victoire-a-lexterieur-1141899
END:VEVENT
END:VCALENDAR
