BEGIN:VCALENDAR
VERSION:2.0
PRODID:-//hacksw/handcal//NONSGML v1.0//EN
BEGIN:VEVENT
SUMMARY:LA D1 SAUVEE DE LA DESCENTE
UID:56dbde9b-d97c-46d2-aa20-f34b85cb0a6f
DTSTART:20180513T183000Z
DTEND:20180513T214500Z
LOCATION:Localisation Plaine Sportive - Route de Vedene 84700 SORGUES
CATEGORIES:Sportif
STATUS:
DESCRIPTION:<p>Notre photo : Jimmy CAJOT</p>
 
URL;VALUE=URI:https://ping-courthezonnais.sportsregions.fr/evenements/2018/05/13/la-d1-sauvee-de-la-descente-1086412
END:VEVENT
END:VCALENDAR
