BEGIN:VCALENDAR
VERSION:2.0
PRODID:-//hacksw/handcal//NONSGML v1.0//EN
BEGIN:VEVENT
SUMMARY:LA D4 INVAINCUE ET ACCEDE EN D3
UID:21914cfe-657f-411f-bd8c-a9b6cb4a940b
DTSTART:20180511T183000Z
DTEND:20180511T214500Z
LOCATION:Localisation Salle Polyvalente - Bd Jean Vilar 84350 COURTHEZON
CATEGORIES:Sportif
STATUS:
DESCRIPTION:<p>Notre photo : Karine FERRE</p>
 
URL;VALUE=URI:https://ping-courthezonnais.sportsregions.fr/evenements/2018/05/11/la-d4-invaincue-et-accede-en-d3-1086427
END:VEVENT
END:VCALENDAR
