BEGIN:VCALENDAR
VERSION:2.0
PRODID:-//hacksw/handcal//NONSGML v1.0//EN
BEGIN:VEVENT
SUMMARY:UNE SAISON QUI FINIT MAL
UID:10bbdd50-e578-4516-a769-aaf21f94cf9a
DTSTART:20180506T120000Z
DTEND:20180506T120000Z
LOCATION:Localisation Salle Jean GRANELLE - Avenue des Plans 06270 VILLENEUVE LOUBET
CATEGORIES:Sportif
STATUS:
DESCRIPTION:<p>La R2</p>
 
URL;VALUE=URI:https://ping-courthezonnais.sportsregions.fr/evenements/2018/05/06/une-saison-qui-finit-mal-1084217
END:VEVENT
END:VCALENDAR
