BEGIN:VCALENDAR
VERSION:2.0
PRODID:-//hacksw/handcal//NONSGML v1.0//EN
BEGIN:VEVENT
SUMMARY:2EME DEFAITE CONSECUTIVE
UID:63d02087-b309-4d0b-a13d-21c47da1fb50
DTSTART:20180323T193000Z
DTEND:20180323T223000Z
LOCATION:Localisation Salle Polyvalente - Bd Jean Vilar 84350 COURTHEZON
CATEGORIES:Sportif
STATUS:
DESCRIPTION:<p>Notre photo : Laurent EGO</p>
 
URL;VALUE=URI:https://ping-courthezonnais.sportsregions.fr/evenements/2018/03/23/2eme-defaite-consecutive-1070925
END:VEVENT
END:VCALENDAR
