BEGIN:VCALENDAR
VERSION:2.0
PRODID:-//hacksw/handcal//NONSGML v1.0//EN
BEGIN:VEVENT
SUMMARY:SEVERE DEFAITE
UID:f88d04c3-bfcf-41bd-a43c-1b8f5f0728d2
DTSTART:20180316T193000Z
DTEND:20180316T223000Z
LOCATION:Localisation Plaine Sportive - Route de Vedene 84700 SORGUES
CATEGORIES:Sportif
STATUS:
DESCRIPTION:<p>Notre photo : Yvan LEYNAUD</p>
 
URL;VALUE=URI:https://ping-courthezonnais.sportsregions.fr/evenements/2018/03/16/severe-defaite-1068008
END:VEVENT
END:VCALENDAR
