BEGIN:VCALENDAR
VERSION:2.0
PRODID:-//hacksw/handcal//NONSGML v1.0//EN
BEGIN:VEVENT
SUMMARY:LA R2 N'Y ARRIVE PAS
UID:a38dfa97-38c9-4567-8164-0bc79ac62d87
DTSTART:20180311T090000Z
DTEND:20180311T113000Z
LOCATION:Localisation Avenue St-Medard - BVM 13220 CHATEAUNEUF LES MARTIGUES
CATEGORIES:Sportif
STATUS:
DESCRIPTION:<p>Notre photo : Emmanuel WIZA</p>
 
URL;VALUE=URI:https://ping-courthezonnais.sportsregions.fr/evenements/2018/03/11/la-r2-ny-arrive-pas-1064470
END:VEVENT
END:VCALENDAR
