BEGIN:VCALENDAR
VERSION:2.0
PRODID:-//hacksw/handcal//NONSGML v1.0//EN
BEGIN:VEVENT
SUMMARY:La R1 DANS L'URGENCE
UID:95e7a666-8335-456e-9424-b8a9ae06a5b6
DTSTART:20180310T160000Z
DTEND:20180310T191500Z
LOCATION:Localisation Gymnase de la Planquette - Avenue Henri BARBUSSE 83130 LA GARDE
CATEGORIES:Sportif
STATUS:
DESCRIPTION:<p>Notre photo : Olivier TRANS</p>
 
URL;VALUE=URI:https://ping-courthezonnais.sportsregions.fr/evenements/2018/03/10/la-r1-dans-lurgence-1064466
END:VEVENT
END:VCALENDAR
