BEGIN:VCALENDAR
VERSION:2.0
PRODID:-//hacksw/handcal//NONSGML v1.0//EN
BEGIN:VEVENT
SUMMARY:LA R2 TOMBE DE MALCHANCE
UID:a1bf6466-ca3a-423f-862e-b6591cea43a4
DTSTART:20180121T160000Z
DTEND:20180121T183000Z
LOCATION:Localisation Salle Polyvalente - Bd Jean Vilar 84350 COURTHEZON
CATEGORIES:Sportif
STATUS:
DESCRIPTION:<p>Notre photo : l'equipe 2</p>
 
URL;VALUE=URI:https://ping-courthezonnais.sportsregions.fr/evenements/2018/01/21/la-r2-tombe-de-malchance-1043804
END:VEVENT
END:VCALENDAR
