BEGIN:VCALENDAR
VERSION:2.0
PRODID:-//hacksw/handcal//NONSGML v1.0//EN
BEGIN:VEVENT
SUMMARY:BON DEPART
UID:4e60b671-f99b-4c63-bbab-ba13fe18dafb
DTSTART:20180119T193000Z
DTEND:20180119T224500Z
LOCATION:Localisation Salle Polyvalente - Bd Jean Vilar 84350 COURTHEZON
CATEGORIES:Sportif
STATUS:
DESCRIPTION:<p>Notre photo : Aurelien PIGOUT</p>
 
URL;VALUE=URI:https://ping-courthezonnais.sportsregions.fr/evenements/2018/01/19/bon-depart-1043266
END:VEVENT
END:VCALENDAR
