BEGIN:VCALENDAR
VERSION:2.0
PRODID:-//hacksw/handcal//NONSGML v1.0//EN
BEGIN:VEVENT
SUMMARY:DESCENTE EN ENFER
UID:1a602528-6b2e-4257-b7dc-ad8390ea4248
DTSTART:20171209T160000Z
DTEND:20171209T193000Z
LOCATION:Localisation Salle Luc VIGNAL - Avenue Elsa Triollet 84000 AVIGNON
CATEGORIES:Sportif
STATUS:
DESCRIPTION:<p>Notre photo : Thomas GUDAYOL</p>
 
URL;VALUE=URI:https://ping-courthezonnais.sportsregions.fr/evenements/2017/12/09/descente-en-enfer-1024989
END:VEVENT
END:VCALENDAR
