BEGIN:VCALENDAR
VERSION:2.0
PRODID:-//hacksw/handcal//NONSGML v1.0//EN
BEGIN:VEVENT
SUMMARY:TERMINE EN BEAUTE
UID:f5922e75-92f2-471a-b5b7-937931ff65c5
DTSTART:20171208T193000Z
DTEND:20171208T223000Z
LOCATION:Localisation Salle Luc VIGNAL - Avenue Elsa Triollet 84000 AVIGNON
CATEGORIES:Sportif
STATUS:
DESCRIPTION:<p>Notre photo : Laurent EGO</p>
 
URL;VALUE=URI:https://ping-courthezonnais.sportsregions.fr/evenements/2017/12/08/termine-en-beaute-1025336
END:VEVENT
END:VCALENDAR
