BEGIN:VCALENDAR
VERSION:2.0
PRODID:-//hacksw/handcal//NONSGML v1.0//EN
BEGIN:VEVENT
SUMMARY:LA CHUTE
UID:b4c210d0-7d56-4aee-b5ba-27fa3bc665a3
DTSTART:20171208T193000Z
DTEND:20171208T223000Z
LOCATION:Localisation Complexe Ste Famille - Rue Arthur RIMBAUD 84200 CARPENTRAS
CATEGORIES:Sportif
STATUS:
DESCRIPTION:<p>Notre photo : Kevin NICOLAS</p>
 
URL;VALUE=URI:https://ping-courthezonnais.sportsregions.fr/evenements/2017/12/08/la-chute-1024984
END:VEVENT
END:VCALENDAR
