BEGIN:VCALENDAR
VERSION:2.0
PRODID:-//hacksw/handcal//NONSGML v1.0//EN
BEGIN:VEVENT
SUMMARY:UNE GROSSE BULLE POUR LA PR
UID:39cdffbb-398a-4c83-93b2-177ddc7854be
DTSTART:20171201T193000Z
DTEND:20171201T221500Z
LOCATION:Localisation Complexe Sportif Perdiguier - Av. Pierre de COUBERTIN 84310 MORIERES LES AVIGNON
CATEGORIES:Sportif
STATUS:
DESCRIPTION:<p>Notre photo : Jeremie CAGNIAC</p>
 
URL;VALUE=URI:https://ping-courthezonnais.sportsregions.fr/evenements/2017/12/01/une-grosse-bulle-pour-la-pr-1021474
END:VEVENT
END:VCALENDAR
