BEGIN:VCALENDAR
VERSION:2.0
PRODID:-//hacksw/handcal//NONSGML v1.0//EN
BEGIN:VEVENT
SUMMARY:LA D3 SEUL LEADER
UID:de1a418b-5f24-4ea4-90af-41c4e69a7b43
DTSTART:20171201T193000Z
DTEND:20171201T214500Z
LOCATION:Localisation Salle des Sports - Route de SORGUES 84320 ENTRAIGUES SUR LA SORGUE
CATEGORIES:Sportif
STATUS:
DESCRIPTION:<p>Notre photo : Regis MEYNADIER</p>
 
URL;VALUE=URI:https://ping-courthezonnais.sportsregions.fr/evenements/2017/12/01/la-d3-seul-leader-1021470
END:VEVENT
END:VCALENDAR
