BEGIN:VCALENDAR
VERSION:2.0
PRODID:-//hacksw/handcal//NONSGML v1.0//EN
BEGIN:VEVENT
SUMMARY:LA P.N. QUI PLEURE
UID:6afa9e74-ddaf-417b-b574-439a9235eda7
DTSTART:20171125T160000Z
DTEND:20171125T191500Z
LOCATION:Localisation Halle des Sports - Avenue Edouard GRANGIER 84170 MONTEUX
CATEGORIES:Sportif
STATUS:
DESCRIPTION:<p>Notre photo : KONG JONG FOEK Francois</p>
 
URL;VALUE=URI:https://ping-courthezonnais.sportsregions.fr/evenements/2017/11/25/la-pn-qui-pleure-1018135
END:VEVENT
END:VCALENDAR
