BEGIN:VCALENDAR
VERSION:2.0
PRODID:-//hacksw/handcal//NONSGML v1.0//EN
BEGIN:VEVENT
SUMMARY:LA R2 RECHUTE DANS LE DERBY
UID:96fbee35-174b-4301-8306-e78079fa5b49
DTSTART:20171118T160000Z
DTEND:20171118T190000Z
LOCATION:Localisation Plaine Sportive - Route de Vedene 84700 SORGUES
CATEGORIES:Sportif
STATUS:
DESCRIPTION:<p>Notre photo : Julien VIEU</p>
 
URL;VALUE=URI:https://ping-courthezonnais.sportsregions.fr/evenements/2017/11/18/la-r2-rechute-dans-le-derby-1014029
END:VEVENT
END:VCALENDAR
