BEGIN:VCALENDAR
VERSION:2.0
PRODID:-//hacksw/handcal//NONSGML v1.0//EN
BEGIN:VEVENT
SUMMARY:UNE DEFAITE SURPRISE
UID:20af9112-7914-4ea0-9517-9a1eef58ada4
DTSTART:20171117T193000Z
DTEND:20171117T224500Z
LOCATION:Localisation Boulevard Jean MOULIN 84300 CAVAILLON
CATEGORIES:Sportif
STATUS:
DESCRIPTION:<p>Notre photo : Denis MARION</p>
 
URL;VALUE=URI:https://ping-courthezonnais.sportsregions.fr/evenements/2017/11/17/une-defaite-surprise-1013772
END:VEVENT
END:VCALENDAR
