BEGIN:VCALENDAR
VERSION:2.0
PRODID:-//hacksw/handcal//NONSGML v1.0//EN
BEGIN:VEVENT
SUMMARY:UNE DEFAITE RAGEANTE
UID:778dc095-67f4-4696-b5bb-d105ebbe0449
DTSTART:20171117T193000Z
DTEND:20171117T224500Z
LOCATION:Localisation Complexe Sportif Perdiguier - Av. Pierre de COUBERTIN 84310 MORIERES LES AVIGNON
CATEGORIES:Sportif
STATUS:
DESCRIPTION:<p>Notre photo : Christophe CANET</p>
 
URL;VALUE=URI:https://ping-courthezonnais.sportsregions.fr/evenements/2017/11/17/une-defaite-rageante-1013774
END:VEVENT
END:VCALENDAR
