BEGIN:VCALENDAR
VERSION:2.0
PRODID:-//hacksw/handcal//NONSGML v1.0//EN
BEGIN:VEVENT
SUMMARY:DE  BIEN BELLE MANIERE
UID:45992746-5e67-4cd2-a97d-a499d51f88c8
DTSTART:20171117T193000Z
DTEND:20171117T221500Z
LOCATION:Localisation Gymnase du LEP Ferdinand R - Chemin des Estimeurs Est 84600 VALREAS
CATEGORIES:Sportif
STATUS:
DESCRIPTION:<p>Notre photo : Julien BLANC</p>
 
URL;VALUE=URI:https://ping-courthezonnais.sportsregions.fr/evenements/2017/11/17/de-bien-belle-maniere-1013781
END:VEVENT
END:VCALENDAR
